BEGIN:VCALENDAR
VERSION:2.0
PRODID:-//eventon.com NONSGML v1.0//EN
CALSCALE:GREGORIAN
METHOD:PUBLISH
BEGIN:VEVENT
UID:69e88eca7e11a
DTSTAMP:20260422T090306Z
DTSTART:20240716T080000Z
DTEND:20240718T163000Z
LOCATION:
SUMMARY:JournÃ©es d'inscription
DESCRIPTION:Les inscriptions nationales se dÃ©roulerontÂ du 16 juillet au 1
 8Â juilletÂ 2024Â sans rendez-vous de 8h00 Ã  12h00 et de 13h30 Ã  16h30. D
 ocuments requis pour toute autre classe: la fiche de dÃ©part du lycÃ©e dâ€™
 origine la carte dâ€™identitÃ© ou le titre de sÃ©jour la carte de sÃ©curitÃ
 © sociale tous les bulletins de lâ€™annÃ©e[..]\nhttps://www.ltett.lu/events
 /journees-dinscription/
URL:https://www.ltett.lu/events/journees-dinscription/
END:VEVENT
END:VCALENDAR